Workbook

Sheet フレンドショップ登録用紙
B1: フレンドショップ新規登録用紙
B2: モンベル・フレンドショップへのご登録希望をいただき誠にありがとうございます。 下記項目の順に太枠内へ必要事項をご記入いただきますようにお願いします。（グレーの部分は記入不要です） ★画像について★ フレンドショップページに掲載する施設画像を数枚ご用意ください。 サイズは短辺が2,000ピクセル程度のものをご手配願います。 【画像の版権について】 送付いただいた画像に関しては、弊社またはグループ会社内で使用することがあります。フレンドショップページ以外での使用が不可の場合は事前にお知らせください。 ＜使用例＞特集、キャンペーン、イベントなどのイメージ画像としてウェブ・紙媒体告知物など | F2: 記入例
B4: フレンドショップ登録者さまご記入欄
B5: ■特典ガイド・WEB記載情報 | C5: ※太枠内に記入してください | F5: ■特典ガイド・WEB記載情報
B6: 原稿提出日 | F6: 原稿提出日 | G6: 44106
B7: 登録開始希望日 | F7: 登録開始希望日 | G7: 44166
A8: 1 | B8: 施設名 | F8: 施設名 | G8: 門鈴村
A9: 2 | B9: 施設名（かな） | F9: 施設名（かな） | G9: もんべるむら
A10: 3 | B10: 施設分類 ※該当するものに☑ （複数選択可） | F10: 施設分類 ※該当するものに☑ （複数選択可） | O10: 宿泊施設 | P10: トレッキング | Q10: 4 | R10: 4.泊まる | S10: 1
A11: 4 | B11: 選択した分類の中から優先度合いの高い2つを記入してください | F11: （選択した分類の中から優先度合いの高い2つを記入してください） | G11: 【優先分類①】 宿泊施設 | O11: 山小屋 | P11: サイクリング | Q11: 5 | R11: 4.泊まる | S11: 2
A12: 5 | G12: 【優先分類②】 ショッピング | O12: キャンプ場 | P12: フィッシング | Q12: 7 | R12: 4.泊まる | S12: 3
A13: 6 | B13: 施設で提供しているアクティビティ※当てはまるものがあれば該当するものに☑ （複数選択可） | F13: 施設で提供しているアクティビティで当てはまるものがあれば該当するものに☑ （複数選択可） | O13: 体験・ガイドツアー | P13: カヌー・SUP | Q13: 6 | R13: 1.遊ぶ・体験する | S13: 4
A14: 7 | B14: 選択したアクティビティの中から優先度合いの高い2つを記入してください | F14: 選択したアクティビティの中から優先度合いの高い2つを記入してください | G14: 【優先アクティビティ①】 トレッキング | O14: スキー場 | P14: ラフティング | Q14: 8 | R14: 1.遊ぶ・体験する | S14: 5
A15: 8 | G15: 【優先アクティビティ②】 サイクリング | O15: 飲食店 | P15: クライミング | Q15: 2 | R15: 3.食べる・買う | S15: 6
A16: 9 | B16: 施設住所（郵便番号） 〒 | F16: 住所（郵便番号） 〒 | G16: 781-3601 | O16: 温泉・入浴施設 | P16: マリンスポーツ | Q16: 3 | R16: 5.癒し | S16: 7
A17: 10 | B17: 都道府県 | F17: 都道府県 | G17: 大阪府 | O17: ショッピング | P17: マウンテンバイク | Q17: 1 | R17: 3.食べる・買う | S17: 8
A18: 11 | B18: 市区町村 （区は東京23区と政令指定都市のみ入力） | F18: 市区町村（区は東京23区のみ） | G18: 大阪市西区 | O18: トラベル・交通系サービス | P18: キャンプ | Q18: 11 | R18: 6.その他 | S18: 9
A19: 12 | B19: 字名・番地 | F19: 字名・番地 | G19: 新町1-33-20 | O19: ロープウェイ | P19: スキー・スノーシュー | Q19: 10 | R19: 1.遊ぶ・体験する | S19: 10
A20: 13 | B20: TEL | F20: TEL | G20: 06-6538-3896 | O20: クライミングジム | P20: バードウォッチング | Q20: 9 | R20: 1.遊ぶ・体験する | S20: 11
A21: 14 | B21: FAX | F21: FAX | G21: 06-6538-3699 | O21: 文化施設 | P21: 沢登り・キャニオニング | Q21: 12 | R21: 2.知る・見る | S21: 12
A22: 15 | B22: 公式サイトURL | F22: 公式サイトURL | G22: https://store.montbell.jp/search/shopinfo/?shop_no=679907 | O22: 観光案内 | P22: 自然散策・ハイキング | Q22: 13 | R22: 2.知る・見る | S22: 13
A23: 16 | B23: 営業期間（あれば） | F23: 営業期間（あれば） | G23: 1月～10月 | O23: ヘルスケア | P23: その他 | Q23: 14 | R23: 5.癒し | S23: 14
A24: 17 | B24: 営業時間 | F24: 営業時間 | G24: 11:00～20:00 | O24: 限定商品取り扱い | Q24: 15 | R24: 6.その他
A25: 18 | B25: 定休日 | F25: 定休日 | G25: 不定休 | O25: その他 | Q25: 16 | R25: 6.その他
A26: 19 | B26: 営業について備考 （上記以外に特記事項があればこちらにご記入ください。） ex. 料金、チェックイン・アウト時間、設備、収容人数、部屋数など | F26: 営業について備考 （上記以外に特記事項があればこちらにご記入ください。） ex. 料金、チェックイン・アウト時間、設備、収容人数、部屋数など | G26: ＜コテージ＞ チェックイン15:00から、チェックアウト10：00まで ＜温浴施設＞ 大人550円、小人330円
A27: 20 | B27: 施設紹介文 （特典ガイド・WEBサイト一覧用） ※100文字以内 | D27: =LEN(C27) -> 0 | F27: 施設紹介文 （特典ガイド・WEBサイト一覧用） ※100文字以内 | G27: 宿泊コテージ、モンベルストア、レストラン、温浴施設などが一体となった複合施設です。アウトドアイベントを通年で開催しており、いつでも本格的なアウトドア体験が楽しめます。
A28: 21 | B28: 施設紹介文 （WEBサイト用） ※400文字以内 | D28: =LEN(C28) -> 0 | F28: 施設紹介文 （WEBサイト用） ※400文字以内 | G28: 宿泊コテージ、モンベルストア、レストラン、温浴施設などが一体となった複合施設です。 広大な山地と川に囲まれた立地で、さまざまなアウトドアが楽しめるフィールドが広がります。M.O.C.（モンベル・アウトドア・チャレンジ）のフィールドベースにもなっているので、アウトドアイベントを通年で開催しており、いつでも本格的なアウトドア体験が楽しめます。 | H28: =LEN(G27) -> 83
A29: 22 | B29: モンベルクラブ会員さまへの特典 全国の会員様がいつでも何度でもご利用いただける特典をご提供ください。 ＜ご遠慮いただいている特典＞ ・姉妹店やチェーン店での特典 ・常にどなたにも提供しているオープン特典 ・独自のポイントカード、他店の割引券など | D29: =LEN(C29) -> 0 | F29: モンベルクラブ会員さまへの特典 （全国の会員様がいつでも何度でもご利用いただける特典をご提供ください。姉妹店、系列店での特典設定はご遠慮ください。） | G29: 飲食料金から10%OFF | H29: =LEN(G28) -> 170
A30: 23 | B30: 特典の対象 ※該当するものに☑ | C30: 会員さまのみ 名さままでOK ※会員さまを含む、特典適用可能人数の数字をご記入ください (例：4名さままでOKの場合→会員1名＋非会員3名が該当) 1グループまでOK (例：会員1名＋非会員すべてが該当) 特記事項： | F30: 特典の対象 ※該当するものに☑ | G30: 会員さまのみ ４名さままでOK ※会員さまを含む、特典適用可能人数の数字をご記入ください (例：4名さままでOKの場合→会員1名＋非会員3名が該当) 1グループまでOK (例：会員1名＋非会員すべてが該当) 特記事項：
A31: 24 | B31: ペット同伴の可否、 及び可能な範囲(飲食同伴、宿泊、ドッグラン等) | F31: ペット同伴の可否、 及び可能な範囲(飲食同伴、宿泊、ドッグラン等) | G31: ペット同伴可能です。 温浴施設のみ、同伴不可。
B33: 〇PR動画（1本） | F33: 〇PR動画・SNSなど
A34: 25 | B34: PR動画 名称 | F34: PR動画（YouTube）名称 | G34: 門鈴村PR動画
A35: 26 | B35: PR動画 紹介文（150字程度） | D35: =LEN(C35) -> 0 | F35: PR動画 紹介文（150字程度） | G35: 門鈴村でのおすすめの過ごし方をご紹介！ お買い物だけでなく、広い敷地内で楽しめるアクティビティもたくさんご用意しています。
A36: 27 | B36: PR動画（YouTube）URL ※メインとなる１本 | F36: PR動画（YouTube）URL ※メインとなる１本 | G36: https://www.youtube.com/・・・・・・・・
B38: ○公式SNSアカウント ※右の上段にアカウント名、下段にURLを記入。 | C38: 【上段】 SNS アカウント名 | F38: ○公式SNSアカウント ※ドロップダウンでSNSの種類を選択。右の上段にアカウント名、下段にURLを記入。 | G38: 【上段】 SNS アカウント名
C39: 【下段】 SNS URL （LINEのみIDを記入） | G39: 【下段】 SNS URL （LINEのみIDを記入）
A40: 28 | B40: facebook | F40: facebook | G40: 門鈴村
G41: https://m.facebook.com/montbelljpn
A42: 29 | B42: X (旧Twitter) | F42: Twitter | G42: 門鈴村~熊のいる宿～
G43: https://twitter.com/montbelljp
...

Sheet ウェブサイト掲載例
Q1: 記入例
Q2: ■特典ガイド・WEB記載情報
Q3: 原稿提出日 | R3: 44106
Q4: 公開予定 | R4: 44136
Q5: 施設名 | R5: 門鈴村
Q6: 施設名（かな） | R6: もんべるむら
Q7: 施設分類 ※該当するものに☑ （複数選択可）
Q8: （選択した分類の中から優先度合いの高い2つを記入してください） | R8: 【優先分類①】宿泊施設
R9: 【優先分類②】ショッピング
Q10: 施設で提供しているアクティビティで当てはまるものがあれば該当するものに☑ （複数選択可）
Q11: （選択したアクティビティの中から優先度合いの高い2つを記入してください） | R11: 【優先アクティビティ①】トレッキング
R12: 【優先アクティビティ②】サイクリング
Q13: 住所（郵便番号） 〒 | R13: 781-3601
Q14: 都道府県 | R14: 大阪府
Q15: 市区町村（区は東京23区のみ） | R15: 大阪市
Q16: 字名・番地 | R16: 西区新町1-33-20
Q17: フレンドエリア1
Q18: フレンドエリア2
Q19: フレンドエリア3
Q20: TEL | R20: 06-6538-3896
Q21: FAX | R21: 06-6538-3699
Q22: 施設メールアドレス | R22: store@montbell.com
Q23: 公式サイトURL | R23: https://store.montbell.jp/search/shopinfo/?shop_no=679907
Q24: 営業期間（あれば） | R24: 1月～10月
Q25: 営業時間 | R25: 11:00～20:00
Q26: 定休日 | R26: 不定休
Q27: 営業について備考 （上記以外に特記事項があればこちらにご記入ください。） ex. 料金、チェックイン・アウト時間、設備、収容人数、部屋数など | R27: ＜コテージ＞ チェックイン15:00から、チェックアウト10：00まで ＜温浴施設＞ 大人550円、小人330円
Q28: 施設紹介文 （特典ガイド冊子用） ※100文字以内 | R28: 宿泊コテージ、モンベルストア、レストラン、温浴施設などが一体となった複合施設です。アウトドアイベントを通年で開催しており、いつでも本格的なアウトドア体験が楽しめます。
Q29: 施設紹介文 （WEBサイト用） ※400文字以内 | R29: 宿泊コテージ、モンベルストア、レストラン、温浴施設などが一体となった複合施設です。 広大な山地と川に囲まれた立地で、さまざまなアウトドアが楽しめるフィールドが広がります。M.O.C.（モンベル・アウトドア・チャレンジ）のフィールドベースにもなっているので、アウトドアイベントを通年で開催しており、いつでも本格的なアウトドア体験が楽しめます。
Q30: モンベルクラブ会員さまへの特典 （全国の会員様がいつでも何度でもご利用いただける特典をご提供ください。姉妹店、系列店での特典設定はご遠慮ください。） | R30: 飲食料金から10%OFF
Q31: 特典の対象 ※該当するものに☑ | R31: 会員さまのみ 4 名さままでOK ※数字をご記入ください 1グループまでOK 特記事項：
Q33: 〇PR動画（1本）
Q34: PR動画 名称 | R34: 門鈴村PR動画
Q35: PR動画 紹介文（150字程度） | R35: 門鈴村でのおすすめの過ごし方をご紹介！ お買い物だけでなく、広い敷地内で楽しめるアクティビティもたくさんご用意しています。
Q36: PR動画（YouTube）URL ※メインとなる１本 | R36: https://www.youtube.com/・・・・・・・・
Q38: ○SNSアカウント（いくつでも） ※ドロップダウンでSNSの種類を選択。右の上段にアカウント名、下段にURLを記入。 | R38: 【上段】 SNS アカウント名
R39: 【下段】 SNS URL
Q40: Facebook | R40: 門鈴村 公式Facebook
R41: https://m.facebook.com/montbelljpn
Q42: Twitter | R42: 門鈴村 公式twitter
...

Sheet WEB作業用
B3: ■モンベルクラブスタッフ使用欄（ウェブ入力用）
B4: 店舗情報管理＜新規登録＞【入力】 | F4: 会員証の有効期限確認システム | G4: フレンドショップ名 | H4: =フレンドショップ登録用紙!C89 -> 0
B5: WEB管理番号 | D5: =D46 -> 0 | G5: 担当者名 | H5: =フレンドショップ登録用紙!C90 -> 0
B6: 店舗名 | D6: =CONCATENATE(フレンドショップ登録用紙!C8) | G6: 担当者メールアドレス | H6: =フレンドショップ登録用紙!C91 -> 0
B7: 店舗名かな | D7: =CONCATENATE(フレンドショップ登録用紙!C9)
B8: 所在地 | C8: 〒 | D8: =ASC(フレンドショップ登録用紙!C16)
C9: 都道府県 | D9: =CONCATENATE(フレンドショップ登録用紙!C17)
C10: 市町村（東京23区） | D10: =ASC(フレンドショップ登録用紙!C18)
C11: 字名・番地 | D11: =ASC(フレンドショップ登録用紙!C19)
B12: TEL | D12: =ASC(フレンドショップ登録用紙!C20)
B13: リンク先URL | D13: =ASC(フレンドショップ登録用紙!C22)
B14: 営業時間 | D14: =フレンドショップ登録用紙!C24 -> 0
B15: 店舗案内文 | D15: =フレンドショップ登録用紙!C27 -> 0
B16: WEB登録用アクティビティ
B17: WEB登録用店舗種類
B19: 店舗案内【詳細】
B20: 店舗案内情報 | C20: 右上 | D20: =フレンドショップ登録用紙!C28 -> 0
C21: 右下 | D21: =CONCATENATE(E21,CHAR(10),F22,CHAR(10),CHAR(10),E23,F21,F23,F24,F26,F27) -> ■営業案内 0 ＜公式SNS＞ | E21: ■営業案内 | F21: =IF(フレンドショップ登録用紙!C41="","",CHAR(10)&"■facebook：[A BLANK("&フレンドショップ登録用紙!C41&")(off)]"&フレンドショップ登録用紙!C40&"[/A]")
F22: =フレンドショップ登録用紙!C26 -> 0
B23: 店休日 | C23: 店休日 | D23: =ASC(フレンドショップ登録用紙!C25) | E23: ＜公式SNS＞ | F23: =IF(フレンドショップ登録用紙!C43="","",CHAR(10)&"■X：[A BLANK("&フレンドショップ登録用紙!C43&")(off)]"&フレンドショップ登録用紙!C42&"[/A]")
C24: 店休日の追記 | D24: ※あれば記入 | F24: =IF(フレンドショップ登録用紙!C45="","",CHAR(10)&"■Instagram：[A BLANK("&フレンドショップ登録用紙!C45&")(off)]"&フレンドショップ登録用紙!C44&"[/A]")
B26: 地図表示タイプ | C26: 施設名 | D26: =フレンドショップ登録用紙!C8 -> 0 | F26: =IF(フレンドショップ登録用紙!C47="","",CHAR(10)&"■YouTube：[A BLANK("&フレンドショップ登録用紙!C47&")(off)]"&フレンドショップ登録用紙!C46&"[/A]")
C27: 住所 | D27: =CONCATENATE(フレンドショップ登録用紙!C18&フレンドショップ登録用紙!C19) | F27: =IF(フレンドショップ登録用紙!C49="","",CHAR(10)&"■LINE：[A BLANK(https://line.me/R/ti/p/%40"&フレンドショップ登録用紙!C49&")(off)]"&フレンドショップ登録用紙!C48&"[/A]")
B29: フレンドショップ情報 | C29: 会員特典 | D29: =フレンドショップ登録用紙!C29 -> 0 | E29: TRUE
C30: 特典の対象 | D30: =VLOOKUP(E29,E30:F32,2,FALSE) -> #N/A | E30: FALSE | F30: ※会員さまのみ
E31: FALSE | F31: ※＿名様までOK（チェック参照）
B32: 連絡欄 | D32: ※作成日、担当者名 | E32: FALSE | F32: ※1グループまでOK
B35: 関連情報【入力】 | F35: ここに共有リンク貼り付け | J35: =フレンドショップ登録用紙!C36 -> 0
B36: PR動画 | C36: 名称 （タイトル） | D36: =CONCATENATE(フレンドショップ登録用紙!C34)
B37: 紹介文＆URL埋め込み | D37: =CONCATENATE(フレンドショップ登録用紙!C35,CHAR(10),F37,) -> [IFRAME]width=100% height=360 src=?rel=0 allowfullscreen[/IFRAME] | F37: =CONCATENATE(F38,SUBSTITUTE(F36,"youtu.be/","youtube.com/embed/"),F39) -> [IFRAME]width=100% height=360 src=?rel=0 allowfullscreen[/IFRAME]
F38: [IFRAME]width=100% height=360 src=
F39: ?rel=0 allowfullscreen[/IFRAME]
B44: ■モンベルクラブスタッフ使用欄（ソフラ入力用）
D45: D列コピーして値で貼り付けすると、ソフラにコピペできます。
B46: WEB管理番号
B47: フレンドエリア名
B48: ショップ名 | D48: =フレンドショップ登録用紙!C8 -> 0
B49: ショップ名かな | D49: =フレンドショップ登録用紙!C9 -> 0
B50: ショップ代表補人名 | D50: =フレンドショップ登録用紙!C52 -> 0
B51: 【施設住所】
...
